BEGIN:VCALENDAR
VERSION:2.0
PRODID:-//CamarilloRWF.org - ECPv6.5.1.4//NONSGML v1.0//EN
CALSCALE:GREGORIAN
METHOD:PUBLISH
X-ORIGINAL-URL:https://camarillorwf.org
X-WR-CALDESC:Events for CamarilloRWF.org
REFRESH-INTERVAL;VALUE=DURATION:PT1H
X-Robots-Tag:noindex
X-PUBLISHED-TTL:PT1H
BEGIN:VTIMEZONE
TZID:UTC
BEGIN:STANDARD
TZOFFSETFROM:+0000
TZOFFSETTO:+0000
TZNAME:UTC
DTSTART:20250101T000000
END:STANDARD
END:VTIMEZONE
BEGIN:VEVENT
DTSTART;TZID=UTC:20250909T110000
DTEND;TZID=UTC:20250909T140000
DTSTAMP:20260423T201450
CREATED:20250828T202958Z
LAST-MODIFIED:20250828T203125Z
UID:10527-1757415600-1757426400@camarillorwf.org
SUMMARY:September Lunch Program With Thousand Oaks Supervisor Jeff Gorell & Camarillo Vice Mayor David Tennessen
DESCRIPTION:
URL:https://camarillorwf.org/event/september-lunch-program-with-thousand-oaks-supervisor-jeff-gorell-camarillo-vice-mayor-david-tennessen/
ATTACH;FMTTYPE=image/jpeg:https://camarillorwf.org/wp-content/uploads/2025/08/jeff-gorell-sm.jpg
END:VEVENT
END:VCALENDAR