BEGIN:VCALENDAR
VERSION:2.0
PRODID:-//CamarilloRWF.org - ECPv6.5.1.4//NONSGML v1.0//EN
CALSCALE:GREGORIAN
METHOD:PUBLISH
X-WR-CALNAME:CamarilloRWF.org
X-ORIGINAL-URL:https://camarillorwf.org
X-WR-CALDESC:Events for CamarilloRWF.org
REFRESH-INTERVAL;VALUE=DURATION:PT1H
X-Robots-Tag:noindex
X-PUBLISHED-TTL:PT1H
BEGIN:VTIMEZONE
TZID:UTC
BEGIN:STANDARD
TZOFFSETFROM:+0000
TZOFFSETTO:+0000
TZNAME:UTC
DTSTART:20250101T000000
END:STANDARD
END:VTIMEZONE
BEGIN:VEVENT
DTSTART;TZID=UTC:20250513T110000
DTEND;TZID=UTC:20250513T140000
DTSTAMP:20260423T145447
CREATED:20250416T032354Z
LAST-MODIFIED:20250416T032515Z
UID:10044-1747134000-1747144800@camarillorwf.org
SUMMARY:May Program With Pete Peterson
DESCRIPTION:
URL:https://camarillorwf.org/event/with-pete-peterson/
ATTACH;FMTTYPE=image/jpeg:https://camarillorwf.org/wp-content/uploads/2025/04/pete-peterson.jpg
END:VEVENT
END:VCALENDAR