BEGIN:VCALENDAR
VERSION:2.0
PRODID:-//CamarilloRWF.org - ECPv6.5.1.4//NONSGML v1.0//EN
CALSCALE:GREGORIAN
METHOD:PUBLISH
X-WR-CALNAME:CamarilloRWF.org
X-ORIGINAL-URL:https://camarillorwf.org
X-WR-CALDESC:Events for CamarilloRWF.org
REFRESH-INTERVAL;VALUE=DURATION:PT1H
X-Robots-Tag:noindex
X-PUBLISHED-TTL:PT1H
BEGIN:VTIMEZONE
TZID:UTC
BEGIN:STANDARD
TZOFFSETFROM:+0000
TZOFFSETTO:+0000
TZNAME:UTC
DTSTART:20250101T000000
END:STANDARD
END:VTIMEZONE
BEGIN:VEVENT
DTSTART;TZID=UTC:20250114T110000
DTEND;TZID=UTC:20250114T143000
DTSTAMP:20260421T103452
CREATED:20250102T060105Z
LAST-MODIFIED:20250102T222105Z
UID:9393-1736852400-1736865000@camarillorwf.org
SUMMARY:January Program With Bill Frank
DESCRIPTION:
URL:https://camarillorwf.org/event/january-program-with-bill-frank/
ATTACH;FMTTYPE=image/png:https://camarillorwf.org/wp-content/uploads/2024/10/Bill-Frank.png
END:VEVENT
END:VCALENDAR