BEGIN:VCALENDAR
VERSION:2.0
PRODID:-//CamarilloRWF.org - ECPv6.5.1.4//NONSGML v1.0//EN
CALSCALE:GREGORIAN
METHOD:PUBLISH
X-WR-CALNAME:CamarilloRWF.org
X-ORIGINAL-URL:https://camarillorwf.org
X-WR-CALDESC:Events for CamarilloRWF.org
REFRESH-INTERVAL;VALUE=DURATION:PT1H
X-Robots-Tag:noindex
X-PUBLISHED-TTL:PT1H
BEGIN:VTIMEZONE
TZID:UTC
BEGIN:STANDARD
TZOFFSETFROM:+0000
TZOFFSETTO:+0000
TZNAME:UTC
DTSTART:20240101T000000
END:STANDARD
END:VTIMEZONE
BEGIN:VEVENT
DTSTART;TZID=UTC:20240109T110000
DTEND;TZID=UTC:20240109T140000
DTSTAMP:20260425T154725
CREATED:20240115T022559Z
LAST-MODIFIED:20240115T022843Z
UID:7266-1704798000-1704808800@camarillorwf.org
SUMMARY:January Luncheon with Mark Koslow
DESCRIPTION:
URL:https://camarillorwf.org/event/january-luncheon-with-mark-koslow/
END:VEVENT
END:VCALENDAR